BEGIN:VCALENDAR
VERSION:2.0
PRODID:-//artifica.one//Ver-sur-Mer//FR
CALSCALE:GREGORIAN
METHOD:PUBLISH
BEGIN:VEVENT
SUMMARY:Permanence en Mairie d'Altitude Infra concernant l
 a Fibre
UID:3590
SEQUENCE:0
STATUS:CONFIRMED
TRANSP:TRANSPARENT
DTSTART:20260603T060000Z
DTEND:20260603T180000Z
DTSTAMP:20260421T083651Z
CATEGORIES:Cadre de vie
DESCRIPTION:La fibre est disponible à Ver-sur-Mer !
URL:https://www.versurmer.fr/agenda/permanence-en-mairie-d-altitude-infra-concernant-la-fibre-3590
END:VEVENT
END:VCALENDAR
