BEGIN:VCALENDAR
VERSION:2.0
PRODID:-//artifica.one//Ver-sur-Mer//FR
CALSCALE:GREGORIAN
METHOD:PUBLISH
BEGIN:VEVENT
SUMMARY:Festival Ma Parole !
UID:3589
SEQUENCE:0
STATUS:CONFIRMED
TRANSP:TRANSPARENT
DTSTART:20260423T060000Z
DTEND:20260528T180000Z
DTSTAMP:20260421T083238Z
CATEGORIES:Loisir &amp; culture
DESCRIPTION:Consultez le programme
URL:https://www.versurmer.fr/agenda/festival-ma-parole-3589
END:VEVENT
END:VCALENDAR
