BEGIN:VCALENDAR
VERSION:2.0
PRODID:-//artifica.one//Ver-sur-Mer//FR
CALSCALE:GREGORIAN
METHOD:PUBLISH
BEGIN:VEVENT
SUMMARY:Parlez vous la langue des signes ?
UID:3588
SEQUENCE:0
STATUS:CONFIRMED
TRANSP:TRANSPARENT
DTSTART:20260424T060000Z
DTEND:20260424T180000Z
DTSTAMP:20260421T083055Z
CATEGORIES:Loisir &amp; culture
DESCRIPTION:Ateliers adultes, bibliothèque de Ver sur Mer
URL:https://www.versurmer.fr/agenda/parlez-vous-la-langue-des-signes-3588
END:VEVENT
END:VCALENDAR
