BEGIN:VCALENDAR
VERSION:2.0
PRODID:-//artifica.one//Ver-sur-Mer//FR
CALSCALE:GREGORIAN
METHOD:PUBLISH
BEGIN:VEVENT
SUMMARY:Les rencontres Mine d'Arts
UID:3278
SEQUENCE:0
STATUS:CONFIRMED
TRANSP:TRANSPARENT
DTSTART:20251108T070000Z
DTEND:20251108T190000Z
DTSTAMP:20251020T142733Z
CATEGORIES:Loisir &amp; culture
DESCRIPTION:Une rencontre avec des artistes de disciplines dif
 férentes.
URL:https://www.versurmer.fr/agenda/les-rencontres-mine-d-arts-3278
END:VEVENT
END:VCALENDAR
