BEGIN:VCALENDAR
VERSION:2.0
PRODID:-//artifica.one//Ver-sur-Mer//FR
CALSCALE:GREGORIAN
METHOD:PUBLISH
BEGIN:VEVENT
SUMMARY:Projection du film &quot;Petit Paysan&quot;
UID:3265
SEQUENCE:0
STATUS:CONFIRMED
TRANSP:TRANSPARENT
DTSTART:20251107T070000Z
DTEND:20251107T190000Z
DTSTAMP:20251015T133559Z
CATEGORIES:Loisir &amp; culture
DESCRIPTION:En salle Buehler, Centre Saint-Exupéry, à 20h
URL:https://www.versurmer.fr/agenda/projection-du-film-petit-paysan-3265
END:VEVENT
END:VCALENDAR
