BEGIN:VCALENDAR
VERSION:2.0
PRODID:-//artifica.one//Ver-sur-Mer//FR
CALSCALE:GREGORIAN
METHOD:PUBLISH
BEGIN:VEVENT
SUMMARY:Ramassage de déchets sur la plage et la dune
UID:3257
SEQUENCE:0
STATUS:CONFIRMED
TRANSP:TRANSPARENT
DTSTART:20251018T060000Z
DTEND:20251018T180000Z
DTSTAMP:20251013T064036Z

DESCRIPTION:Organisé par PNPV
URL:https://www.versurmer.fr/agenda/ramassage-de-dechets-sur-la-plage-et-la-dune-3257
END:VEVENT
END:VCALENDAR
