BEGIN:VCALENDAR
VERSION:2.0
PRODID:-//artifica.one//Ver-sur-Mer//FR
CALSCALE:GREGORIAN
METHOD:PUBLISH
BEGIN:VEVENT
SUMMARY:Journées Européennes du Patrimoine à Ver sur Me
 r
UID:3167
SEQUENCE:0
STATUS:CONFIRMED
TRANSP:TRANSPARENT
DTSTART:20250920T060000Z
DTEND:20250921T180000Z
DTSTAMP:20250902T072654Z

DESCRIPTION:Inscrivez-vous pour visiter le Musée Gold Beach g
 ratuitement
URL:https://www.versurmer.fr/agenda/journees-europeennes-du-patrimoine-a-ver-sur-mer-3167
END:VEVENT
END:VCALENDAR
