BEGIN:VCALENDAR
VERSION:2.0
PRODID:-//artifica.one//Ver-sur-Mer//FR
CALSCALE:GREGORIAN
METHOD:PUBLISH
BEGIN:VEVENT
SUMMARY:LOTO organisé par l'association Ver l'Avenir
UID:1631
SEQUENCE:0
STATUS:CONFIRMED
TRANSP:TRANSPARENT
DTSTART:20260322T070000Z
DTEND:20260322T190000Z
DTSTAMP:20230907T082739Z
CATEGORIES:Festivités, Loisir &amp; culture
DESCRIPTION:RDV Salle de la Plage, Place Churchill
URL:https://www.versurmer.fr/agenda/loto-organise-par-l-association-ver-l-avenir-1631
END:VEVENT
END:VCALENDAR
